BEGIN:VCALENDAR
PRODID:-//Pixl8//Eventfolio//EN
VERSION:2.0
X-WR-TIMEZONE:Europe/London
CALSCALE:GREGORIAN
METHOD:PUBLISH
CLASS:PUBLIC
BEGIN:VTIMEZONE
TZID:Europe/London
LAST-MODIFIED:20260306T231828Z
TZURL:https://www.tzurl.org/zoneinfo-outlook/Europe/London
X-LIC-LOCATION:Europe/London
BEGIN:DAYLIGHT
TZNAME:BST
TZOFFSETFROM:+0000
TZOFFSETTO:+0100
DTSTART:19700329T010000
RRULE:FREQ=YEARLY;BYMONTH=3;BYDAY=-1SU
END:DAYLIGHT
BEGIN:STANDARD
TZNAME:GMT
TZOFFSETFROM:+0100
TZOFFSETTO:+0000
DTSTART:19701025T020000
RRULE:FREQ=YEARLY;BYMONTH=10;BYDAY=-1SU
END:STANDARD
END:VTIMEZONE
BEGIN:VEVENT
DTSTART;TZID=Europe/London:20260119T170000
DTEND;TZID=Europe/London:20260119T190000
DTSTAMP:20260421T055827Z
UID:{B15DB08C-A15F-41E0-94EC7FAD54507887}
LOCATION:The Science Museum
SUMMARY:UKAI Energy Report Launch
DESCRIPTION:Join UKAI at the launch of our 2026 report on 'Energy and AI'. The 'Energy and AI' report combines the insights from our roundtable discussions over the last few months on both 'Infrastructure and AI' and 'Energy and AI'. UKAI will be publishing a series of recommendations for how the UK can lead, including essential infrastructure, addressing energy pricing and supporting the development of sustainable and responsible AI.\n
 \n
 Event details: https://ukai.co/ai-event-calendar/energy-report-launch-2026.html
PRIORITY:1
END:VEVENT
END:VCALENDAR